BEGIN:VCALENDAR
VERSION:2.0
PRODID:-//Visit Kyogle - ECPv6.5.1.5//NONSGML v1.0//EN
CALSCALE:GREGORIAN
METHOD:PUBLISH
X-WR-CALNAME:Visit Kyogle
X-ORIGINAL-URL:https://www.visitkyogle.com.au
X-WR-CALDESC:Events for Visit Kyogle
REFRESH-INTERVAL;VALUE=DURATION:PT1H
X-Robots-Tag:noindex
X-PUBLISHED-TTL:PT1H
BEGIN:VTIMEZONE
TZID:UTC
BEGIN:STANDARD
TZOFFSETFROM:+0000
TZOFFSETTO:+0000
TZNAME:UTC
DTSTART:20250101T000000
END:STANDARD
END:VTIMEZONE
BEGIN:VEVENT
DTSTART;TZID=UTC:20251102T090000
DTEND;TZID=UTC:20251102T170000
DTSTAMP:20260420T082146
CREATED:20251025T040951Z
LAST-MODIFIED:20251025T041044Z
UID:6566-1762074000-1762102800@www.visitkyogle.com.au
SUMMARY:Woodenbong RFS Annual Golf Day
DESCRIPTION: 
URL:https://www.visitkyogle.com.au/event/woodenbong-rfs-annual-golf-day/
LOCATION:Woodenbong Golf Club\, 24-34 Golf Links Road\, Woodenbong\, New South Wales\, 2476\, Australia
CATEGORIES:November
ATTACH;FMTTYPE=image/jpeg:https://www.visitkyogle.com.au/wp-content/uploads/2025/10/449636064_1645304779373855_1806602892328592795_n.jpg
END:VEVENT
END:VCALENDAR