BEGIN:VCALENDAR
VERSION:2.0
PRODID:-//Visit Kyogle - ECPv6.5.1.5//NONSGML v1.0//EN
CALSCALE:GREGORIAN
METHOD:PUBLISH
X-WR-CALNAME:Visit Kyogle
X-ORIGINAL-URL:https://www.visitkyogle.com.au
X-WR-CALDESC:Events for Visit Kyogle
REFRESH-INTERVAL;VALUE=DURATION:PT1H
X-Robots-Tag:noindex
X-PUBLISHED-TTL:PT1H
BEGIN:VTIMEZONE
TZID:UTC
BEGIN:STANDARD
TZOFFSETFROM:+0000
TZOFFSETTO:+0000
TZNAME:UTC
DTSTART:20250101T000000
END:STANDARD
END:VTIMEZONE
BEGIN:VEVENT
DTSTART;TZID=UTC:20251122T080000
DTEND;TZID=UTC:20251122T170000
DTSTAMP:20260419T220146
CREATED:20251028T042534Z
LAST-MODIFIED:20251028T042534Z
UID:6632-1763798400-1763830800@www.visitkyogle.com.au
SUMMARY:Kyogle Bazaar Community Market
DESCRIPTION:Kyogle Bazaar\n9am -2pm | Fourth Saturday of every month Amphitheatre Park.\nKyogle Bazaar is a fully volunteer-run community event.  A place to connect with a friendly rural welcome. Our philosophy is to create a space that promotes our unique local artisans and environmental sustainability. \nOur event is designed to be a neutral space\, free from political and religious ideologies\, where everyone can come together to enjoy artisan products and sustainable practices\, fostering community connections. \nThe market on the fourth Saturday of every month\, except for December – the Christmas Market is December 14th . \n           
URL:https://www.visitkyogle.com.au/event/kyogle-bazaar-community-market/
LOCATION:NSW
CATEGORIES:November
ATTACH;FMTTYPE=image/png:https://www.visitkyogle.com.au/wp-content/uploads/2025/10/ICON-Markets.png
ORGANIZER;CN="Kyogle Bazaar Community Market":MAILTO:kyoglebazaar1@gmail.com
END:VEVENT
END:VCALENDAR