BEGIN:VCALENDAR
VERSION:2.0
PRODID:-//Visit Kyogle - ECPv6.5.1.5//NONSGML v1.0//EN
CALSCALE:GREGORIAN
METHOD:PUBLISH
X-ORIGINAL-URL:https://www.visitkyogle.com.au
X-WR-CALDESC:Events for Visit Kyogle
REFRESH-INTERVAL;VALUE=DURATION:PT1H
X-Robots-Tag:noindex
X-PUBLISHED-TTL:PT1H
BEGIN:VTIMEZONE
TZID:UTC
BEGIN:STANDARD
TZOFFSETFROM:+0000
TZOFFSETTO:+0000
TZNAME:UTC
DTSTART:20250101T000000
END:STANDARD
END:VTIMEZONE
BEGIN:VEVENT
DTSTART;TZID=UTC:20251206T170000
DTEND;TZID=UTC:20251206T210000
DTSTAMP:20260420T110859
CREATED:20251130T071336Z
LAST-MODIFIED:20251130T071635Z
UID:6839-1765040400-1765054800@www.visitkyogle.com.au
SUMMARY:Hanging Rock Rural Fire Brigade XMAS PARTY
DESCRIPTION:
URL:https://www.visitkyogle.com.au/event/hangingrockrfb-xmas/
LOCATION:Hanging Rock Hall\, 77 Williams Road\, Cawongla\, NSW\, 2474\, Australia
CATEGORIES:December
ATTACH;FMTTYPE=image/png:https://www.visitkyogle.com.au/wp-content/uploads/2025/11/4.png
ORGANIZER;CN="Hanging Rock Hall":MAILTO:hangrockhall@gmail.com
END:VEVENT
END:VCALENDAR