BEGIN:VCALENDAR
VERSION:2.0
PRODID:-//Visit Kyogle - ECPv6.5.1.5//NONSGML v1.0//EN
CALSCALE:GREGORIAN
METHOD:PUBLISH
X-WR-CALNAME:Visit Kyogle
X-ORIGINAL-URL:https://www.visitkyogle.com.au
X-WR-CALDESC:Events for Visit Kyogle
REFRESH-INTERVAL;VALUE=DURATION:PT1H
X-Robots-Tag:noindex
X-PUBLISHED-TTL:PT1H
BEGIN:VTIMEZONE
TZID:UTC
BEGIN:STANDARD
TZOFFSETFROM:+0000
TZOFFSETTO:+0000
TZNAME:UTC
DTSTART:20250101T000000
END:STANDARD
END:VTIMEZONE
BEGIN:VEVENT
DTSTART;TZID=UTC:20251205T180000
DTEND;TZID=UTC:20251205T210000
DTSTAMP:20260420T093908
CREATED:20251130T063015Z
LAST-MODIFIED:20251130T065907Z
UID:6818-1764957600-1764968400@www.visitkyogle.com.au
SUMMARY:Wiangaree Christmas Carols
DESCRIPTION:
URL:https://www.visitkyogle.com.au/event/wiangaree-christmas-carols-2/
LOCATION:Aboody Park\, Summerland Way\, Wiangaree\, New South Wales\, 2474\, Australia
CATEGORIES:December
ATTACH;FMTTYPE=image/png:https://www.visitkyogle.com.au/wp-content/uploads/2025/11/XMAS-LOGO-1.png
END:VEVENT
BEGIN:VEVENT
DTSTART;TZID=UTC:20251206T170000
DTEND;TZID=UTC:20251206T210000
DTSTAMP:20260420T093908
CREATED:20251130T071336Z
LAST-MODIFIED:20251130T071635Z
UID:6839-1765040400-1765054800@www.visitkyogle.com.au
SUMMARY:Hanging Rock Rural Fire Brigade XMAS PARTY
DESCRIPTION:
URL:https://www.visitkyogle.com.au/event/hangingrockrfb-xmas/
LOCATION:Hanging Rock Hall\, 77 Williams Road\, Cawongla\, NSW\, 2474\, Australia
CATEGORIES:December
ATTACH;FMTTYPE=image/png:https://www.visitkyogle.com.au/wp-content/uploads/2025/11/4.png
ORGANIZER;CN="Hanging Rock Hall":MAILTO:hangrockhall@gmail.com
END:VEVENT
BEGIN:VEVENT
DTSTART;TZID=UTC:20251214T173000
DTEND;TZID=UTC:20251214T200000
DTSTAMP:20260420T093908
CREATED:20251122T043223Z
LAST-MODIFIED:20251130T092529Z
UID:6809-1765733400-1765742400@www.visitkyogle.com.au
SUMMARY:Carols by Candlelight presented by Kyogle Lions Club
DESCRIPTION:  \nBring your families\, your friends and members of your community. Join Kyogle as we celebrate Christmas and welcome the festive season with a community sing-along\, guest artists\, local choirs and school groups\, plus a special visit from Santa. \nBYO picnic rugs and chairs\, safe flame candles and all your Christmas cheer. \nThere will be limited reserved seating available for the elder members of the community\, plus a drop off zone on Anzac Parade (next to the Kyogle Visitor Information Centre). \nIn the event of wet weather\, the Christmas Carols will be moved to the KMI Hall. \nWishing you all a Merry Christmas and a safe and wonderful holiday season! …. Kyogle Lions Club
URL:https://www.visitkyogle.com.au/event/carols-by-candlelight-presented-by-kyogle-lions-club/
LOCATION:Kyogle Amphitheatre\, Cnr Summerland Way and Anzac Parade\, Kyogle\, New South Wales\, 2474\, Australia
CATEGORIES:December
ATTACH;FMTTYPE=image/png:https://www.visitkyogle.com.au/wp-content/uploads/2025/11/5.png
END:VEVENT
BEGIN:VEVENT
DTSTART;TZID=UTC:20251225T113000
DTEND;TZID=UTC:20251225T150000
DTSTAMP:20260420T093908
CREATED:20251130T105916Z
LAST-MODIFIED:20251130T105916Z
UID:6904-1766662200-1766674800@www.visitkyogle.com.au
SUMMARY:Kyogle Community Christmas Luncheon
DESCRIPTION:
URL:https://www.visitkyogle.com.au/event/kyogle-community-christmas-luncheon/
LOCATION:Community Centre Kyogle\, 3 Bloore Street\, Kyogle\, New South Wales\, 2474\, Australia
CATEGORIES:December
ATTACH;FMTTYPE=image/png:https://www.visitkyogle.com.au/wp-content/uploads/2025/11/7.png
END:VEVENT
END:VCALENDAR