BEGIN:VCALENDAR
VERSION:2.0
PRODID:-//Visit Kyogle - ECPv6.5.1.5//NONSGML v1.0//EN
CALSCALE:GREGORIAN
METHOD:PUBLISH
X-ORIGINAL-URL:https://www.visitkyogle.com.au
X-WR-CALDESC:Events for Visit Kyogle
REFRESH-INTERVAL;VALUE=DURATION:PT1H
X-Robots-Tag:noindex
X-PUBLISHED-TTL:PT1H
BEGIN:VTIMEZONE
TZID:UTC
BEGIN:STANDARD
TZOFFSETFROM:+0000
TZOFFSETTO:+0000
TZNAME:UTC
DTSTART:20250101T000000
END:STANDARD
END:VTIMEZONE
BEGIN:VEVENT
DTSTART;TZID=UTC:20251101T100000
DTEND;TZID=UTC:20251101T160000
DTSTAMP:20260420T104249
CREATED:20251024T225046Z
LAST-MODIFIED:20251025T033111Z
UID:6531-1761991200-1762012800@www.visitkyogle.com.au
SUMMARY:Ataraxis Farms FARM GATE OPEN
DESCRIPTION:Ataraxis Farms\nFARM GATE OPEN\n\nSaturday\, November 1st and Sunday\, November 2nd | 10am – 4pm \nTake a wander\, soak it in and enjoy the magic of Ataraxis Farms. \n\nWander through our patches\nSnap your perfect Instagrammable moments\nBYO picnic and soak up the fresh farm air\nShop direct from our farm market stall\n\nFor more information\, please visit Ataraxis Farms. \n  \nSince planting our roots in 2021 in the heart of Fawcetts Plain\, NSW\, Ataraxis Farms has been about one thing – caring for the land\, our animals\, and the plants we grow. \nWe’re proud to share the simple\, natural magic of Ataraxis Farms with you – from our humble patch to your home. \nChris & Tina – Ataraxis Farms \n  \n  \n 
URL:https://www.visitkyogle.com.au/event/ataraxisfarmgateopen/
LOCATION:Ataraxis Farms\, 825 Collins Creek Road\, Fawcetts Plain\, New South Wales\, Australia
CATEGORIES:November
ATTACH;FMTTYPE=image/webp:https://www.visitkyogle.com.au/wp-content/uploads/2025/10/Lavender_flowers_with_hills_in_distance.webp
ORGANIZER;CN="Ataraxis Farms":MAILTO:info@ataraxisfarms.com.au
END:VEVENT
END:VCALENDAR