BEGIN:VCALENDAR
VERSION:2.0
PRODID:-//Visit Kyogle - ECPv6.5.1.5//NONSGML v1.0//EN
CALSCALE:GREGORIAN
METHOD:PUBLISH
X-WR-CALNAME:Visit Kyogle
X-ORIGINAL-URL:https://www.visitkyogle.com.au
X-WR-CALDESC:Events for Visit Kyogle
REFRESH-INTERVAL;VALUE=DURATION:PT1H
X-Robots-Tag:noindex
X-PUBLISHED-TTL:PT1H
BEGIN:VTIMEZONE
TZID:UTC
BEGIN:STANDARD
TZOFFSETFROM:+0000
TZOFFSETTO:+0000
TZNAME:UTC
DTSTART:20240101T000000
END:STANDARD
END:VTIMEZONE
BEGIN:VEVENT
DTSTART;TZID=UTC:20240802T080000
DTEND;TZID=UTC:20240804T170000
DTSTAMP:20260420T032511
CREATED:20240724T035045Z
LAST-MODIFIED:20240725T223405Z
UID:6258-1722585600-1722790800@www.visitkyogle.com.au
SUMMARY:VMX Classic Dirt 17
DESCRIPTION:VMX Magazine Classic Dirt 17 will again be at three Pines MX Park\, north of Kyogle in NSW. VMX Magazine Classic Dirt 16\, at this new venue last year\, was a great success! The site is simply magnificent and showcases the very best of the picturesque Northern Rivers region of NSW. You will again be treated to brilliant natural terrain tracks\, improved even further for this year\, along with a host of other improvements.
URL:https://www.visitkyogle.com.au/event/vmx-classic-dirt-17/
LOCATION:Three Pines MX Park\, 129 Montgomerys Road\, Kyogle\, NSW\, Australia
CATEGORIES:August
ATTACH;FMTTYPE=image/png:https://www.visitkyogle.com.au/wp-content/uploads/2024/07/vmx.png
END:VEVENT
END:VCALENDAR