BEGIN:VCALENDAR
VERSION:2.0
PRODID:-//Visit Kyogle - ECPv6.5.1.5//NONSGML v1.0//EN
CALSCALE:GREGORIAN
METHOD:PUBLISH
X-WR-CALNAME:Visit Kyogle
X-ORIGINAL-URL:https://www.visitkyogle.com.au
X-WR-CALDESC:Events for Visit Kyogle
REFRESH-INTERVAL;VALUE=DURATION:PT1H
X-Robots-Tag:noindex
X-PUBLISHED-TTL:PT1H
BEGIN:VTIMEZONE
TZID:UTC
BEGIN:STANDARD
TZOFFSETFROM:+0000
TZOFFSETTO:+0000
TZNAME:UTC
DTSTART:20260101T000000
END:STANDARD
END:VTIMEZONE
BEGIN:VEVENT
DTSTART;VALUE=DATE:20260220
DTEND;VALUE=DATE:20260223
DTSTAMP:20260419T121107
CREATED:20260131T050906Z
LAST-MODIFIED:20260131T051103Z
UID:7214-1771545600-1771804799@www.visitkyogle.com.au
SUMMARY:Family Bass Classic | Kyogle Fishing Club
DESCRIPTION:
URL:https://www.visitkyogle.com.au/event/family-bass-classic-kyogle-fishing-club/
LOCATION:Toonumbar Dam\, Dam Access Road\, Ghinni Ghi\, NSW\, 2474\, Australia
CATEGORIES:February
ATTACH;FMTTYPE=image/jpeg:https://www.visitkyogle.com.au/wp-content/uploads/2026/01/308498876_459149299583002_519382801206627966_n.jpg
END:VEVENT
BEGIN:VEVENT
DTSTART;TZID=UTC:20260221T080000
DTEND;TZID=UTC:20260221T120000
DTSTAMP:20260419T121107
CREATED:20260130T235202Z
LAST-MODIFIED:20260130T235248Z
UID:7141-1771660800-1771675200@www.visitkyogle.com.au
SUMMARY:Kyogle Farmers' Market
DESCRIPTION:Kyogle Farmers’ Market \nEvery Saturday morning | 8am – 12 noon. \nStratheden St\, Kyogle. \nWeekly offering of fresh\, seasonal produce\, artisan foods and crafts in Kyogle. \nFor more information or to hold a stall\, please visit contact the organiser via the website link.
URL:https://www.visitkyogle.com.au/event/kyogle-farmers-market-21feb/
LOCATION:Kyogle Farmers’ Market\, Stratheden Street\, Kyogle\, NSW\, 2474
CATEGORIES:February
ATTACH;FMTTYPE=image/png:https://www.visitkyogle.com.au/wp-content/uploads/2025/10/ICON-Produce-1.png
END:VEVENT
BEGIN:VEVENT
DTSTART;TZID=UTC:20260221T193000
DTEND;TZID=UTC:20260221T213000
DTSTAMP:20260419T121107
CREATED:20260131T051756Z
LAST-MODIFIED:20260131T052315Z
UID:7222-1771702200-1771709400@www.visitkyogle.com.au
SUMMARY:NORPA presents PRIMA FACIE
DESCRIPTION:  \n  \nA NORPA production \nPrima Facie\nWritten by Suzie Miller\nDirected by Heather Fairbairn \nThe world’s most talked about play\, right on your doorstep \nSuzie Miller’s Prima Facie has captivated audiences worldwide — from London’s West End to Broadway. Now\, NORPA brings its original production of this landmark Australian play to six destinations in the Northern Rivers. \nMatilda Ridgway (Belvoir’s The Curious Incident of the Dog in the Night-time) takes on the powerhouse role of Tessa — an ambitious young lawyer at the top of her game. But when a shocking event throws her own life into crisis\, she finds herself on the other side of the witness stand\, forced to confront the entrenched power of the law. Once a champion of the system\, she now faces its cracks and failures firsthand. \nDirected by renowned director Heather Fairbairn (Opera Australia’s Katya Kabanova and Bell Shakespeare’s Twelfth Night)\, this is theatre at its most urgent and moving — a story that challenges\, provokes\, and resonates deeply with audiences around the world. \nNORPA is proud to produce Prima Facie as the very first work in our annual Village Circuit season — sharing exceptional theatre with towns and communities across the Northern Rivers. \nIn February 2026\, Prima Facie will play in Byron Bay\, Murwillumbah\, Tweed Heads\, Kyogle\, Grafton and Lismore. \nDETAILS\nOn tour from 12 — 28 Feb 2026 \nKYOGLE\nFEB 21\, 2026 | 7.30pm\n  \n\n  \n  \n 
URL:https://www.visitkyogle.com.au/event/norpa-presents-prima-facie/
LOCATION:KMI Hall – Kyogle Memorial Institute\, Stratheden Street\, Kyogle\, NSW\, 2474\, Australia
CATEGORIES:February
ATTACH;FMTTYPE=image/jpeg:https://www.visitkyogle.com.au/wp-content/uploads/2026/01/PF-1-banner.jpg
END:VEVENT
BEGIN:VEVENT
DTSTART;TZID=UTC:20260221T200000
DTEND;TZID=UTC:20260221T230000
DTSTAMP:20260419T121107
CREATED:20260131T052906Z
LAST-MODIFIED:20260131T052943Z
UID:7236-1771704000-1771714800@www.visitkyogle.com.au
SUMMARY:Shenanigans 2026 | Kyogle Bowling Club
DESCRIPTION:  \nAfter the sell out success of our inaugural Shenanigans Women’s Comedy Show in Lismore in 2025\, Funny Jumbles is bringing it to Kyogle in 2026!\n\nShenanigans 2026: Women’s Comedy and Dance Party is exactlly what is says on the label – an hour and a half of women comedians making you laugh\, followed by as much dancing as your legs can cope with or until they kick us out – whichever comes first!\nHeadlined by the incredible Ting Lim – last seen on “Fisk” and “Thank God You’re Here”\, the line up is all woman\, all hilarious.\n\nComedians include:\n– Kelly Mac– Sare Bare– Rhiannon Pearson– Helen Sager– MC’d by Odette– DJ’d be Grace Hogan\n\nTickets are on sale now\, just $30 each if purchased up to midday on the day of the event\, $35 at the door (cash preferred!).
URL:https://www.visitkyogle.com.au/event/shenanigans-2026-kyogle-bowling-club/
LOCATION:Kyogle Bowling Club\, 38 Larkin St\, Kyogle\, NSW\, 2480\, Australia
CATEGORIES:February
ATTACH;FMTTYPE=image/jpeg:https://www.visitkyogle.com.au/wp-content/uploads/2026/01/SHEN-1.jpg
END:VEVENT
END:VCALENDAR