BEGIN:VCALENDAR
VERSION:2.0
PRODID:-//Visit Kyogle - ECPv6.5.1.5//NONSGML v1.0//EN
CALSCALE:GREGORIAN
METHOD:PUBLISH
X-ORIGINAL-URL:https://www.visitkyogle.com.au
X-WR-CALDESC:Events for Visit Kyogle
REFRESH-INTERVAL;VALUE=DURATION:PT1H
X-Robots-Tag:noindex
X-PUBLISHED-TTL:PT1H
BEGIN:VTIMEZONE
TZID:UTC
BEGIN:STANDARD
TZOFFSETFROM:+0000
TZOFFSETTO:+0000
TZNAME:UTC
DTSTART:20260101T000000
END:STANDARD
END:VTIMEZONE
BEGIN:VEVENT
DTSTART;TZID=UTC:20260207T080000
DTEND;TZID=UTC:20260207T120000
DTSTAMP:20260419T120522
CREATED:20260130T234749Z
LAST-MODIFIED:20260130T235104Z
UID:7135-1770451200-1770465600@www.visitkyogle.com.au
SUMMARY:Kyogle Farmers' Market
DESCRIPTION:Kyogle Farmers’ Market \nEvery Saturday morning | 8am – 12 noon. \nStratheden St\, Kyogle. \nWeekly offering of fresh\, seasonal produce\, artisan foods and crafts in Kyogle. \nFor more information or to hold a stall\, please visit contact the organiser via the website link.
URL:https://www.visitkyogle.com.au/event/kyogle-farmers-market-7feb/
LOCATION:Kyogle Farmers’ Market\, Stratheden Street\, Kyogle\, NSW\, 2474
CATEGORIES:February
ATTACH;FMTTYPE=image/png:https://www.visitkyogle.com.au/wp-content/uploads/2025/10/ICON-Produce-1.png
END:VEVENT
BEGIN:VEVENT
DTSTART;TZID=UTC:20260207T090000
DTEND;TZID=UTC:20260207T110000
DTSTAMP:20260419T120522
CREATED:20260131T023318Z
LAST-MODIFIED:20260131T033338Z
UID:7197-1770454800-1770462000@www.visitkyogle.com.au
SUMMARY:LANDCARE | Wiangaree Lagoon
DESCRIPTION:Wiangaree Lagoon Community Working Bee\n Saturday 7th of Feb \n9-11am\n  \nOnly an hour to spare? No worries! Come along and join for as much time as you have available.\nWelcome to come along for just for a chat and to hear about the restoration work that is underway.\nBYO gloves and boots – other tools provided. \nWiangaree Lagoon restoration activities are being managed by the Border Ranges Richmond Valley Landcare Network.\nFor more information:\nE: landcare.support@brrvln.org.au\nM: 0457 052 636\n  \n 
URL:https://www.visitkyogle.com.au/event/landcare-feb7/
LOCATION:Wiangaree Lagoon\, Summerland Way\, Wiangaree\, NSW\, 2474\, Australia
CATEGORIES:February
ATTACH;FMTTYPE=image/webp:https://www.visitkyogle.com.au/wp-content/uploads/2026/01/download.webp
ORGANIZER;CN="LANDCARE Border Ranges and Richmond Valley":MAILTO:landcare.support@brrvln.org.au
END:VEVENT
BEGIN:VEVENT
DTSTART;TZID=UTC:20260207T170000
DTEND;TZID=UTC:20260207T210000
DTSTAMP:20260419T120522
CREATED:20260131T013441Z
LAST-MODIFIED:20260131T020041Z
UID:7187-1770483600-1770498000@www.visitkyogle.com.au
SUMMARY:11th GMJ Gospel Music Jamboree
DESCRIPTION:Greetings from Elders Michael and Vera Walker Hosts of this years 11th GMJ GOSPEL MUSIC JAMBOREE EVENT  \nSaturday 7th February\, 2026 \nKyogle Amphitheatre \nFrom 5pm-9pm \nDrug and Alcohol Free Event  \nALL WELCOME  \nFREE EVENT \n  \nBring a rug or foldout chair to enjoy the amazing array of Gospel Artists local and Interstate Guests  \nLUKE VASSELLA GMJ ARTIST / TINA WASHINGTON CHRISTIAN RAP ARTIST … KYLE SLABB … many more wonderful guests appearing and performing at this years GMJ – GOSPEL MUSIC JAMBOREE EVENT   \n  \n 
URL:https://www.visitkyogle.com.au/event/gmj-feb7/
LOCATION:Kyogle Amphitheatre\, Cnr Summerland Way and Anzac Parade\, Kyogle\, New South Wales\, 2474\, Australia
CATEGORIES:February
ATTACH;FMTTYPE=image/jpeg:https://www.visitkyogle.com.au/wp-content/uploads/2026/01/GMJ-1.jpg
END:VEVENT
END:VCALENDAR