BEGIN:VCALENDAR
VERSION:2.0
PRODID:-//Visit Kyogle - ECPv6.5.1.5//NONSGML v1.0//EN
CALSCALE:GREGORIAN
METHOD:PUBLISH
X-WR-CALNAME:Visit Kyogle
X-ORIGINAL-URL:https://www.visitkyogle.com.au
X-WR-CALDESC:Events for Visit Kyogle
REFRESH-INTERVAL;VALUE=DURATION:PT1H
X-Robots-Tag:noindex
X-PUBLISHED-TTL:PT1H
BEGIN:VTIMEZONE
TZID:UTC
BEGIN:STANDARD
TZOFFSETFROM:+0000
TZOFFSETTO:+0000
TZNAME:UTC
DTSTART:20250101T000000
END:STANDARD
END:VTIMEZONE
BEGIN:VEVENT
DTSTART;TZID=UTC:20251130T100000
DTEND;TZID=UTC:20251130T160000
DTSTAMP:20260419T171350
CREATED:20251028T045956Z
LAST-MODIFIED:20251028T050035Z
UID:6674-1764496800-1764518400@www.visitkyogle.com.au
SUMMARY:Ataraxis Farms FARM GATE OPEN
DESCRIPTION:Ataraxis Farms\nFARM GATE OPEN\n\nSaturday\, November 29th and Sunday\, November 30th | 10am – 4pm \nTake a wander\, soak it in and enjoy the magic of Ataraxis Farms. \n\nWander through our patches\nSnap your perfect Instagrammable moments\nBYO picnic and soak up the fresh farm air\nShop direct from our farm market stall\n\nFor more information\, please visit Ataraxis Farms. \n  \nSince planting our roots in 2021 in the heart of Fawcetts Plain\, NSW\, Ataraxis Farms has been about one thing – caring for the land\, our animals\, and the plants we grow. \nWe’re proud to share the simple\, natural magic of Ataraxis Farms with you – from our humble patch to your home. \nChris & Tina – Ataraxis Farms \n  \n  \n 
URL:https://www.visitkyogle.com.au/event/ataraxisfarmgateopen-nov30/
LOCATION:Ataraxis Farms\, 825 Collins Creek Road\, Fawcetts Plain\, New South Wales\, Australia
CATEGORIES:November
ATTACH;FMTTYPE=image/webp:https://www.visitkyogle.com.au/wp-content/uploads/2025/10/Lavender_flowers_with_hills_in_distance.webp
ORGANIZER;CN="Ataraxis Farms":MAILTO:info@ataraxisfarms.com.au
END:VEVENT
BEGIN:VEVENT
DTSTART;TZID=UTC:20251130T113000
DTEND;TZID=UTC:20251130T150000
DTSTAMP:20260419T171350
CREATED:20251028T043802Z
LAST-MODIFIED:20251028T043802Z
UID:6650-1764502200-1764514800@www.visitkyogle.com.au
SUMMARY:Seniors Christmas Lunch | Bonalbo
DESCRIPTION:  \nA special Christmas event to celebrate the seniors in our area. Offering a 2 course Christmas lunch with entertainment\, lucky prizes\, laughter and fun for only $10 each for our seniors. $25 for all others who also wish to attend.
URL:https://www.visitkyogle.com.au/event/seniors-christmas-lunch-bonalbo/
LOCATION:Bonalbo Bowls and Recreation Club\, Woodenbong Road\, Bonalbo\, NSW\, 2469\, Australia
CATEGORIES:November
ATTACH;FMTTYPE=image/png:https://www.visitkyogle.com.au/wp-content/uploads/2024/12/xmas-tree-icon.png
ORGANIZER;CN="Louisa Johnston Centre Committee":MAILTO:LouisaJohnstonCentre@gmail.com
END:VEVENT
END:VCALENDAR