BEGIN:VCALENDAR
VERSION:2.0
PRODID:-//Visit Kyogle - ECPv6.5.1.5//NONSGML v1.0//EN
CALSCALE:GREGORIAN
METHOD:PUBLISH
X-ORIGINAL-URL:https://www.visitkyogle.com.au
X-WR-CALDESC:Events for Visit Kyogle
REFRESH-INTERVAL;VALUE=DURATION:PT1H
X-Robots-Tag:noindex
X-PUBLISHED-TTL:PT1H
BEGIN:VTIMEZONE
TZID:UTC
BEGIN:STANDARD
TZOFFSETFROM:+0000
TZOFFSETTO:+0000
TZNAME:UTC
DTSTART:20250101T000000
END:STANDARD
END:VTIMEZONE
BEGIN:VEVENT
DTSTART;TZID=UTC:20251118T100000
DTEND;TZID=UTC:20251118T110000
DTSTAMP:20260420T120243
CREATED:20251028T053806Z
LAST-MODIFIED:20251028T053806Z
UID:6693-1763460000-1763463600@www.visitkyogle.com.au
SUMMARY:Cyber Security Awareness Month | Scam Awareness Information Session
DESCRIPTION:Kyogle library will be welcoming a free guest speaker from NBN to come along and speak about Scam Awareness.\nWhere : Kyogle library \nGuest speaker : Kim from NBN \nWhen : Tuesday 18th November 2025 \nTime : 10.00-11.00am \nWho : Adults welcome \nCost : FREE!!! \nBookings : NOT necessary – Adults welcome.  Drop-in\, join-in! \nFree morning tea cuppa or Summer mocktail supplied.
URL:https://www.visitkyogle.com.au/event/cyber-security-awareness-month-scam-awareness-information-session/
LOCATION:Kyogle Library\, Stratheden Street\, Kyogle\, NSW\, 2474\, Australia
CATEGORIES:November
ATTACH;FMTTYPE=image/png:https://www.visitkyogle.com.au/wp-content/uploads/2025/10/ICON-Learn-More.png
END:VEVENT
END:VCALENDAR